BEGIN:VCALENDAR
VERSION:2.0
PRODID:-//Julia Kant - ECPv6.15.17.1//NONSGML v1.0//EN
CALSCALE:GREGORIAN
METHOD:PUBLISH
X-ORIGINAL-URL:https://www.juliakant.de
X-WR-CALDESC:Veranstaltungen für Julia Kant
REFRESH-INTERVAL;VALUE=DURATION:PT1H
X-Robots-Tag:noindex
X-PUBLISHED-TTL:PT1H
BEGIN:VTIMEZONE
TZID:UTC
BEGIN:STANDARD
TZOFFSETFROM:+0000
TZOFFSETTO:+0000
TZNAME:UTC
DTSTART:20250101T000000
END:STANDARD
END:VTIMEZONE
BEGIN:VEVENT
DTSTART;TZID=UTC:20260221T100000
DTEND;TZID=UTC:20260222T170000
DTSTAMP:20260425T182006
CREATED:20250704T121912Z
LAST-MODIFIED:20260310T111748Z
UID:10000046-1771668000-1771779600@www.juliakant.de
SUMMARY:Diamant-Alchemie Aufbau 11 Seminar
DESCRIPTION:0rganisation & Anmeldung\n\n\n\n\nJulia Kant  T:  + 49 (0)30- 84319757M: + 49 (0)177 1731541E: info@tiantao-yoga.de\n\n\n\nSeminarkosten: 310\,- Euro\n\n\n\nSeminarzeiten: Sa & So jeweils 10 -17 Uhr\n\n\n\n\n\n\n\n\nAus dem Inhalt\n\n\n\nDie Inhalte der bisherigen Seminare werden mit folgenden Schwerpunkten fortgesetzt: \n\n\n\n\nSternenschiff Aktivierung für den Geschmackssinn & Vier-Körper-Sternenschiff \n\n\n\nFortführung Emotionale Heilung und komplexe Subpersönlichkeiten\n\n\n\nFortführung Stufen der Lichtkörperentwicklung innere Kraft: Das Seelenschwert – weitere Meditationen und Andwendungsmöglichkeiten\n\n\n\ninnere Reinigung und Bearbeitung karmischer Probleme und mehr
URL:https://www.juliakant.de/termin/diamant-alchemie-aufbau-11-seminar/
LOCATION:Zoom Webinar
CATEGORIES:interaktives Webinar
ATTACH;FMTTYPE=image/jpeg:https://www.juliakant.de/wp-content/uploads/2025/07/Tetra-Rotation-vier-Koerper-web.jpg
END:VEVENT
END:VCALENDAR