BEGIN:VCALENDAR
VERSION:2.0
PRODID:-//Julia Kant - ECPv6.15.17.1//NONSGML v1.0//EN
CALSCALE:GREGORIAN
METHOD:PUBLISH
X-WR-CALNAME:Julia Kant
X-ORIGINAL-URL:https://www.juliakant.de
X-WR-CALDESC:Veranstaltungen für Julia Kant
REFRESH-INTERVAL;VALUE=DURATION:PT1H
X-Robots-Tag:noindex
X-PUBLISHED-TTL:PT1H
BEGIN:VTIMEZONE
TZID:UTC
BEGIN:STANDARD
TZOFFSETFROM:+0000
TZOFFSETTO:+0000
TZNAME:UTC
DTSTART:20250101T000000
END:STANDARD
END:VTIMEZONE
BEGIN:VEVENT
DTSTART;TZID=UTC:20260302T183000
DTEND;TZID=UTC:20260930T200000
DTSTAMP:20260423T115524
CREATED:20250711T082440Z
LAST-MODIFIED:20260309T111057Z
UID:10000028-1772476200-1790798400@www.juliakant.de
SUMMARY:Tian Tao Yoga Übungsgruppen
DESCRIPTION:Basis \n\n\n\n23.03.202620.04.202618.05.202615.06.202613.07.202610.08.2026 (voraussichtlich)07.09.2026 \n\n\n\n\n\n\n\nAufbau 1 \n\n\n\n26.03.202623.04.202621.05.202617.06.2026 (Mittwoch)16.07.202613.08.2026 (voraussichtlich)10.09.2026 \n\n\n\n\n\n\n\nAufbau 2 & 3 \n\n\n\n11.03.2026 & 12.03.202608.04.2026 & 09.04.202606.05.2026 & 07.05.202603.06.2026 & 04.06.202601.07.2026 & 02.07.202629.07.2026 & 30.07.202626.08.2026 & 27.08.202623.09.2026 & 24.09.2026 \n\n\n\n\n\n\n\nAufbau 4 & 5 \n\n\n\n04.03.2026 & 05.03.202601.04.2026 & 02.04.202629.04.2026 & 30.04.202627.05.2026 & 28.05.202624.06.2026 & 25.06.202622.07.206 & 23.07.202619.08.2026 & 20.08.202616.09.2026 & 17.09.2026 \n\n\n\n\n\n\n\nAufbau 6 \n\n\n\n19.03.202616.04.202614.05.202611.06.202609.07.202606.08.202603.09.2026 \n\n\n\n\n\n\n\nAufbau 7 \n\n\n\n27.03.202624.04.202622.05.202612.06.202617.07.202614.08.202611.09.2026 \n\n\n\n\n\n\n\nAufbau 8 \n\n\n\n06.03.202603.04.202601.05.202629.05.202626.06.202625.07.202621.08.202618.09.2026 \n\n\n\n\n\n\n\nDie Acht Schätze \n\n\n\n20.03.2026 \n\n\n\n\n\n\n\nDie Goldene Schildkröte \n\n\n\n17.04.2026 \n\n\n\n\n\n\n\nDiamant-Alchemie Meditationsabend \n\n\n\n13.03.2026 für Absolventen der Aufbau 3 Seminarstufe10.04.2026 oder 15.05.2026 für Absolventen der Aufbau 11 Seminarstufe
URL:https://www.juliakant.de/termin/tian-tao-yoga-uebungsgruppen/
LOCATION:Zoom
CATEGORIES:regelmäßgige Veranstaltungen
ATTACH;FMTTYPE=image/jpeg:https://www.juliakant.de/wp-content/uploads/2025/07/Laptop-EV-1.jpg
END:VEVENT
BEGIN:VEVENT
DTSTART;TZID=UTC:20260308T100000
DTEND;TZID=UTC:20260308T170000
DTSTAMP:20260423T115525
CREATED:20250704T121912Z
LAST-MODIFIED:20260310T111328Z
UID:10000048-1772964000-1772989200@www.juliakant.de
SUMMARY:Tian Tao Yoga Aufbau 8 ONLINE Webinar
DESCRIPTION:Tian Tao Yoga Buddha Fa Übungen\n\n\n\n\n\n\nJulia KantT: + 49 (0)30- 84319757M: + 49 (0)177 1731541E: info@tiantao-yoga.de\n\n\n\nSeminarkosten: 155\,- Euro\, Wiederholer 95\,– Euro\n\n\n\nSeminarzeiten: 10 – 17 Uhr (mit Pausen)\n\n\n\n\nDie Webinare finden interaktiv über Zoom statt.Die technische Grundvoraussetzung für die Teilnahme ist ein Computer/Laptop/Tablet mit Kamera und Internetverbindung.Vor dem Seminar wird ein Link zum Meeting versendet. \n\n\n\n\n\nDas Gesetzesrad des Buddha \n\n\n\nDieser Workshop rundet vor allem die Übungen des Aufbau 7 Seminars\, in dem die Stehübungen des Buddha-Fa Komplexes (Der Buddha mit den tausend Händen & die Verwurzelungstechnik) praktiziert wurden\, ab. Des Weiteren werden andere bereits bekannte Übungen erweitert. \n\n\n\n1 I Sitzende Buddha-Fa Übungen\n\n\n\nDie Budhha-Fa Übungen im Sitzen bauen ein großes Kraftfeld auf und dienen der Vertiefung der Meditation \n\n\n\n\n\n\n\n2 I Erweiterung der Drachenperle\n\n\n\nDie Übung “Die Drachenperle” wird um drei weitere Energietore ergänzt. \n\n\n\n\n\n\n\n3 I Erweiterung der Atemübung “Energie vom Himmel aufnehmen”\n\n\n\nDiese Erweiterung betrifft den Energiestrom vom vierten Auge zum Kessel. \n\n\n\n\n\n\n\n4 I Erweiterung der Übung zur Verjüngung der Wirbelsäule\n\n\n\nDer seitwärts gerichteten Variante der Übung zur Verjüngung der Wirbeläule wird ein weiteres Element zugefügt. \n\n\n\n\n\n\n\n5 I Ergänzende Organübungen\n\n\n\nDer Eroberer unterstützt HimmelDiese Übung hilft den Magen zu harmonisieren. \n\n\n\nDas Nieren-Yang befreienDiese Übung reinigt die Nierenenergie und öffnet das Tor des Lebens. \n\n\n\n\n\n\n\n\n\n\nSeminarübersicht
URL:https://www.juliakant.de/termin/tian-tao-yoga-aufbau-8-online-webinar/
LOCATION:Zoom Webinar
CATEGORIES:interaktives Webinar
ATTACH;FMTTYPE=image/jpeg:https://www.juliakant.de/wp-content/uploads/2025/07/buddha-thousand-hands-web.jpg
END:VEVENT
END:VCALENDAR