BEGIN:VCALENDAR
VERSION:2.0
PRODID:-//Julia Kant - ECPv6.15.17.1//NONSGML v1.0//EN
CALSCALE:GREGORIAN
METHOD:PUBLISH
X-WR-CALNAME:Julia Kant
X-ORIGINAL-URL:https://www.juliakant.de
X-WR-CALDESC:Veranstaltungen für Julia Kant
REFRESH-INTERVAL;VALUE=DURATION:PT1H
X-Robots-Tag:noindex
X-PUBLISHED-TTL:PT1H
BEGIN:VTIMEZONE
TZID:UTC
BEGIN:STANDARD
TZOFFSETFROM:+0000
TZOFFSETTO:+0000
TZNAME:UTC
DTSTART:20250101T000000
END:STANDARD
END:VTIMEZONE
BEGIN:VEVENT
DTSTART;TZID=UTC:20260302T183000
DTEND;TZID=UTC:20260930T200000
DTSTAMP:20260425T180844
CREATED:20250711T082440Z
LAST-MODIFIED:20260423T141802Z
UID:10000028-1772476200-1790798400@www.juliakant.de
SUMMARY:TIAN TAO YOGA Übungsgruppen
DESCRIPTION:Basis \n\n\n\n23.03.202620.04.202618.05.202615.06.202613.07.202610.08.2026 (voraussichtlich)07.09.2026 \n\n\n\n\n\n\n\nAufbau 1 \n\n\n\n26.03.202623.04.202621.05.202617.06.2026 (Mittwoch)16.07.202613.08.2026 (voraussichtlich)10.09.2026 \n\n\n\n\n\n\n\nAufbau 2 & 3 \n\n\n\n11.03.2026 & 12.03.202608.04.2026 & 09.04.202606.05.2026 & 07.05.202603.06.2026 & 04.06.202601.07.2026 & 02.07.202629.07.2026 & 30.07.202626.08.2026 & 27.08.202623.09.2026 & 24.09.2026 \n\n\n\n\n\n\n\nAufbau 4 & 5 \n\n\n\n04.03.2026 & 05.03.202601.04.2026 & 02.04.202629.04.2026 & 30.04.202627.05.2026 & 28.05.202624.06.2026 & 25.06.202622.07.206 & 23.07.202619.08.2026 & 20.08.202616.09.2026 & 17.09.2026 \n\n\n\n\n\n\n\nAufbau 6 \n\n\n\n19.03.202616.04.202614.05.202611.06.202609.07.202606.08.202603.09.2026 \n\n\n\n\n\n\n\nAufbau 7 \n\n\n\n27.03.202624.04.202622.05.202612.06.202617.07.202614.08.202611.09.2026 \n\n\n\n\n\n\n\nAufbau 8 \n\n\n\n06.03.202603.04.202601.05.202629.05.202626.06.202625.07.202621.08.202618.09.2026 \n\n\n\n\n\n\n\nDie Acht Schätze \n\n\n\n20.03.2026 \n\n\n\n\n\n\n\nDie Goldene Schildkröte \n\n\n\n17.04.2026 \n\n\n\n\n\n\n\nDiamant-Alchemie Meditationsabend \n\n\n\n13.03.2026 für Absolventen der Aufbau 3 Seminarstufe10.04.2026 oder 15.05.2026 für Absolventen der Aufbau 11 Seminarstufe
URL:https://www.juliakant.de/termin/tian-tao-yoga-uebungsgruppen/
LOCATION:Zoom
CATEGORIES:regelmäßgige Veranstaltungen
ATTACH;FMTTYPE=image/jpeg:https://www.juliakant.de/wp-content/uploads/2025/07/Laptop-EV-1.jpg
END:VEVENT
BEGIN:VEVENT
DTSTART;TZID=UTC:20260913T100000
DTEND;TZID=UTC:20260913T170000
DTSTAMP:20260425T180844
CREATED:20250704T121912Z
LAST-MODIFIED:20260423T144143Z
UID:10000065-1789293600-1789318800@www.juliakant.de
SUMMARY:VERJÜNGUNGSSEMINAR
DESCRIPTION:Organisation & Anmeldung:\n\n\n\n\n\n\n\nBitte nutze das unten angefügte online Anmeldeformular. \n\n\n\n\nJulia KantT: + 49 (0)30- 84319757M: + 49 (0)177 1731541E: info@tiantao-yoga.de\n\n\n\nSeminarkosten: 165\,- Euro\, Wiederholer 95\,– Euro\n\n\n\nSeminarzeiten: 10 – 17 Uhr (mit Pausen)\n\n\n\n\nDie Webinare finden interaktiv über Zoom statt.Die technische Grundvoraussetzung für die Teilnahme ist ein Computer/Laptop/Tablet mit Kamera und Internetverbindung.Vor dem Seminar wird ein Link zum Meeting versendet. \n\n\n\nInhalte:\n\n\n\nGanzheitliche Regeneration & Zelluläre Vitalisierung\n\n\n\nDer Fokus dieses Seminars liegt auf der tiefgreifenden Regeneration und der systematischen Rückgewinnung deiner Lebenskraft.Durch gezielte Meditationen\, energetische Transmissionen und wirkungsvolle Alltags-Praktiken richten wir dein System neu aus\, um biologische Frische und nachhaltige Vitalität von innen heraus zu verankern. \n\n\n\n\n\n\n\nDie Architektur der Erneuerung\n\n\n\nWahre Verjüngung ist kein kosmetischer Prozess\, sondern das Resultat einer energetischen Neuausrichtung. In diesem Workshop vermittle ich dir zwei hocheffektive Selbstanwendungen für den Gesichtsbereich\, die tief auf das Gewebe und den Energiefluss wirken: \n\n\n\n\n\n\n\nDie Geisha-Übung:\n\n\n\nEine morgendliche Aktivierung der Lebensessenz\, die den Energiefluss im Gesicht harmonisiert und dir hilft\, den Tag mit wacher\, klarer Präsenz zu beginnen. \n\n\n\n\n\n\n\nRevitalisierung & Struktur:\n\n\n\nEine spezifische Technik zur Festigung und „Unterpolsterung“ der Gesichtspartien\, die den Lymphfluss anregt und sichtbare Resultate in der Hautstruktur erzielt. \n\n\n\n\n\n\n\nDie Alchemie der Materie:\n\n\n\nEnergetische AktivierungEin besonderer Bestandteil des Seminars ist die Vermittlung einer traditionellen javanischen Mantra-Praxis. Mit dieser spezifischen energetischen Signatur lernst du\, dein Gesichtswasser rituell aufzuladen. Auf Basis meiner über 20-jährigen Erfahrung zeige ich dir\, wie du die Information der Verjüngung direkt in die Struktur des Wassers überträgst\, um deine tägliche Pflege in ein hochwirksames Regenerations-Ritual zu verwandeln. \n\n\n\n\n\n\n\nWirkung und Integration in den Alltag\n\n\n\nDieses Seminar verbindet tiefgreifendes energetisches Wissen mit praktikablen Methoden für das 21. Jahrhundert. Das Ziel ist eine spürbare Vitalisierung deines gesamten Systems\, die über die bloße äußere Erscheinung hinausgeht. Du erhältst ein Fundament an Werkzeugen\, mit denen du deine Regenerationsfähigkeit eigenständig und dauerhaft stabilisieren kannst. \n\n\n\n\n\n\n\n\n\nsiehe auch: \n\n\n\nVerjüngungsbehandlungen\n\n\n\n\n\n\n\n\n\n\n\n\n\n\n\nAnmeldung\n\n\n\n\n\n\n\n\n  \n\n\n\nAnmeldung zum Tagesseminar 2026\n \nIch möchte mich verbindlich anmelden für das Seminar am:\n \n13.09.2026   Verjüngungsseminar\n \nOrt: interaktives Webinar per Zoom\n \n&nbsp\n \n Dein Vorname\n \n \n Dein Nachname\n \n \n Deine E-Mail-Adresse\n \n \nAdresse (für die Rechnungsstellung)\n \n Straße und Hausnummer\n \n \n PLZ/Ort\n \n \n Telefonnummer\n\n \nIch überweise diesen Betrag bis spätestens 3 Tage vor dem Seminar auf folgendes Konto um meinen Platz verbindlich zu reservieren:\nEuro 165\,- (Tagesseminar)\, Euro 95\,- (Wenn du das Seminar bei mir wiederholst)]\n \nEmpfänger: Julia Kant\nPostbank\nIBAN DE19100100100001772109\nBIC	PBNKDEFF\n \n&nbsp\n \n&nbsp\n \n Deine Nachricht (optional)
URL:https://www.juliakant.de/termin/verjuengungsseminar-2-2/
LOCATION:Zoom Webinar
CATEGORIES:interaktives Webinar
ATTACH;FMTTYPE=image/jpeg:https://www.juliakant.de/wp-content/uploads/2025/07/rejuvenation-3-web-1.jpg
END:VEVENT
BEGIN:VEVENT
DTSTART;TZID=UTC:20260926T100000
DTEND;TZID=UTC:20260926T170000
DTSTAMP:20260425T180844
CREATED:20250704T121912Z
LAST-MODIFIED:20260423T145914Z
UID:10000066-1790416800-1790442000@www.juliakant.de
SUMMARY:TIAN TAO YOGA AUFBAU 4 SEMINAR
DESCRIPTION:Organisation & Anmeldung:\n\n\n\n\nJulia KantT: + 49 (0)30- 84319757M: + 49 (0)177 1731541E: info@tiantao-yoga.de\n\n\n\nSeminarkosten: 155\,- Euro (mit Skript 165\,- Euro)\, Wiederholer 95\,– Euro\n\n\n\nSeminarzeiten: 10 – 17 Uhr (mit Pausen)\n\n\n\n\nDie Webinare finden interaktiv über Zoom statt.Die technische Grundvoraussetzung für die Teilnahme ist ein Computer/Laptop/Tablet mit Kamera und Internetverbindung.Vor dem Seminar wird ein Link zum Meeting versendet. \n\n\n\nInhalte:\n\n\n\n\n\n\nÜbung zur Verjüngung der WirbelsäuleDie Übung zur Verjüngung/Regenerierung der Wir­bel­säule kommt in die­sem Semi­nar zu vol­ler Blüte.Aus­ge­hend von der hori­zon­ta­len Kreis­be­we­gung des Beckens ent­wi­ckelt sich ein Bewe­gungs­mus­ter\, wel­ches die Arme in einer voll­en­de­ten\, Yin-Yang ähnli­chen Weise über den Kopf trägt. Kaum eine andere Bewe­gung wirkt so umfas­send auf die Wir­bel­säule. Sie öffnet im Beson­de­ren den Bereich des Brust­korbs und der Schul­tern\, ener­ge­ti­siert die höhe­ren Ener­gie­zen­tren\, wäh­rend sie den Kör­per gleich­zei­tig über die Becken­be­we­gung zen­triert und erdet. In ihr spie­gelt sich der Weg der Sterne und Pla­ne­ten im Makro­kos­mos und die Bewe­gung der sub­ato­ma­ren Teil­chen im Mikro­kos­mos.Dem Uni­ver­sum fol­gend\, müs­sen auch wir uns in kreis­för­mi­gen Mus­tern bewe­gen\, und zwar auf eine Weise\, die es ermög­licht mit gerings­tem Ener­gie­auf­wand die größ­ten Effekte zu erzielen.\n\n\n\n\n\nVorbereitende Organübungen– Regulierung der Atmung– Der Flie­gende Kra­nich und Die Schwa­nen­gans lan­det im SandDies sind Übun­gen aus dem Bereich der Ener­gie­hei­lung der inne­ren Organe. Wäh­rend die Arm­be­we­gung der Kranich-Übung Ener­gie durch die Meri­diane ent­lang der Kör­per­seite lei­tet\, regt die Schwanengans-Übung den Ener­gie­fluss vom Unter­leib nach oben über die Wir­bel­säule an. Es ist rat­sam\, diese bei­den Übun­gen vor den spe­zi­el­len Organ­übun­gen zu praktizieren.\n\n\n\n\n \n\n\n\n\nTian­ Tao Einsicht-Technik (Medi­ta­tion) Teil 3Die Einsicht-Technik gehört zu den inners­ten Tech­ni­ken der „Leh­ren der Gro­ßen Meis­ter“ und ent­fal­tet eine große Kraft. Sie wird im Ver­lauf der Auf­bau Kurse bis Stufe 6 ver­voll­stän­digt.\n\n\n\n\n \n\n\n\n\nSeminar-Übersicht
URL:https://www.juliakant.de/termin/tian-tao-yoga-aufbau-4-live-online-webinar-2/
LOCATION:Zoom Webinar
CATEGORIES:interaktives Webinar
ATTACH;FMTTYPE=image/jpeg:https://www.juliakant.de/wp-content/uploads/2025/04/TTY-spinal-over-head.jpg
END:VEVENT
BEGIN:VEVENT
DTSTART;TZID=UTC:20260927T100000
DTEND;TZID=UTC:20260927T170000
DTSTAMP:20260425T180844
CREATED:20250704T121912Z
LAST-MODIFIED:20260423T144607Z
UID:10000067-1790503200-1790528400@www.juliakant.de
SUMMARY:TIAN TAO YOGA AUFBAU 5 SEMINAR
DESCRIPTION:Organisation & Anmeldung:\n\n\n\n\nJulia KantT: + 49 (0)30- 84319757M: + 49 (0)177 1731541E: info@tiantao-yoga.de\n\n\n\nSeminarkosten: 155\,- Euro (mit Skript 165\,- Euro)\, Wiederholer 95\,– Euro\n\n\n\nSeminarzeiten: 10 – 17 Uhr (mit Pausen)\n\n\n\n\nDie Webinare finden interaktiv über Zoom statt.Die technische Grundvoraussetzung für die Teilnahme ist ein Computer/Laptop/Tablet mit Kamera und Internetverbindung.Vor dem Seminar wird ein Link zum Meeting versendet. \n\n\n\nInhalte:\n\n\n\n\n\n\nÜbung zur Verjüngung der Wirbelsäule– Yin-Yang Hand­flä­chen & irdi­scher und himm­li­scher Dra­cheDiese Ste­h­übung besteht aus vier Abschnit­ten\, in denen die Über-Kopf-Bewegung der soge­nann­ten Yin-Handfläche mit der Bewe­gung der Yang-Handfläche alter­niert. Der Wech­sel wird ent­we­der durch die Bewe­gung des irdi­schen oder himm­li­schen Dra­chens ein­ge­lei­tet. Das Beson­dere an die­ser Übung ist\, dass die simul­tan statt­fin­dende Kreis­be­we­gung des Beckens mit jedem Übergang der Hand von Yin zu Yang oder von Yang zu Yin die Rich­tung wech­selt. Rechte und linke Hand wer­den sepa­rat geübt.Da die Übung auf den im Auf­bau 4 Semi­nar gelern­ten Ele­men­ten auf­baut\, ist sie — bei spie­le­ri­scher Her­an­ge­hens­weise — rela­tiv leicht zu erlernen.\n\n\n\n\n\nOrganübungen– Der Pfau brei­tet seine Flü­gel auszur Stär­kung der Lun­gen. Diese Übung kann unter­stüt­zend bei Asthma\, sowie bei Erkäl­tun­gen\, und ver­stopf­ten Atem­we­gen wir­ken. Sie klärt den Brus­traum\, wärmt die Lungen-Energie und wirkt all­ge­mein rei­ni­gend. In der Regel wird die Übung im Sit­zen oder im Stehen ausgeführt.– Die Jadesäule reicht zum Himmelzur Stärkung der Leber und der Verdauungsorgane. Sie hilft Blockaden zu lösen und unterstützt die entgiftende Funktion der Leber.\n\n\n\n\n \n\n\n\n\nTian­ Tao Einsicht-Technik (Medi­ta­tion) Teil 4Die Einsicht-Technik gehört zu den inners­ten Tech­ni­ken der „Leh­ren der Gro­ßen Meis­ter“ und ent­fal­tet eine große Kraft. Sie wird im Ver­lauf der Auf­bau Kurse bis Stufe 6 ver­voll­stän­digt.\n\n\n\n\n \n\n\n\n\nSeminar-Übersicht
URL:https://www.juliakant.de/termin/tian-tao-yoga-aufbau-5-live-online-webinar-2/
LOCATION:Zoom Webinar
CATEGORIES:interaktives Webinar
ATTACH;FMTTYPE=image/jpeg:https://www.juliakant.de/wp-content/uploads/2025/04/TTY-spinal-yin-yang-breit.jpg
END:VEVENT
END:VCALENDAR